BEGIN:VCALENDAR
VERSION:2.0
PRODID:-//The Humane Society of Greenwood - ECPv4.7.3//NONSGML v1.0//EN
CALSCALE:GREGORIAN
METHOD:PUBLISH
X-WR-CALNAME:The Humane Society of Greenwood
X-ORIGINAL-URL:https://www.gwdhumanesociety.org
X-WR-CALDESC:Events for The Humane Society of Greenwood
BEGIN:VEVENT
DTSTART;VALUE=DATE:20240610
DTEND;VALUE=DATE:20240616
DTSTAMP:20260421T211216
CREATED:20240610T153222Z
LAST-MODIFIED:20240610T153222Z
UID:29556-1717977600-1718495999@www.gwdhumanesociety.org
SUMMARY:Pets of the Week - Week of June 10\, 2024 (Lily and Puffy)
DESCRIPTION:Pets of the Week\nLily and Puffy are our Pets of the Week. Please click here to view their complete profiles! \n
URL:https://www.gwdhumanesociety.org/event/pets-of-the-week-week-of-june-10-2024-lily-and-puffy/
LOCATION:Humane Society of Greenwood\, 2820 Airport Rd\, Greenwood\, SC 29649\, 18500 Greenwade Ln\, United States
END:VEVENT
BEGIN:VEVENT
DTSTART;TZID=America/New_York:20240615T090000
DTEND;TZID=America/New_York:20240615T130000
DTSTAMP:20260421T211216
CREATED:20240419T163335Z
LAST-MODIFIED:20240419T163729Z
UID:29491-1718442000-1718456400@www.gwdhumanesociety.org
SUMMARY:Pickle For Paws Pickleball Tournament - Saturday\, June 15 2024
DESCRIPTION:Click here for the registration form! \n \n
URL:https://www.gwdhumanesociety.org/event/pickle-for-paws-pickleball-tournament-saturday-june-15-2024/
END:VEVENT
END:VCALENDAR