BEGIN:VCALENDAR
VERSION:2.0
PRODID:-//The Humane Society of Greenwood - ECPv4.7.3//NONSGML v1.0//EN
CALSCALE:GREGORIAN
METHOD:PUBLISH
X-WR-CALNAME:The Humane Society of Greenwood
X-ORIGINAL-URL:https://www.gwdhumanesociety.org
X-WR-CALDESC:Events for The Humane Society of Greenwood
BEGIN:VEVENT
DTSTART;VALUE=DATE:20240527
DTEND;VALUE=DATE:20240602
DTSTAMP:20260421T211059
CREATED:20240527T060405Z
LAST-MODIFIED:20240527T060405Z
UID:29536-1716768000-1717286399@www.gwdhumanesociety.org
SUMMARY:Pets of the Week - Week of May 27\, 2024 (Rosa and Tinker)
DESCRIPTION:Pets of the Week\nRosa and Tinker are our Pets of the Week. Please click here to view their complete profiles! \n
URL:https://www.gwdhumanesociety.org/event/pets-of-the-week-week-of-may-27-2024-rosa-and-tinker/
LOCATION:Humane Society of Greenwood\, 2820 Airport Rd\, Greenwood\, SC 29649\, 18500 Greenwade Ln\, United States
END:VEVENT
END:VCALENDAR