BEGIN:VCALENDAR
VERSION:2.0
PRODID:-//The Humane Society of Greenwood - ECPv4.7.3//NONSGML v1.0//EN
CALSCALE:GREGORIAN
METHOD:PUBLISH
X-WR-CALNAME:The Humane Society of Greenwood
X-ORIGINAL-URL:https://www.gwdhumanesociety.org
X-WR-CALDESC:Events for The Humane Society of Greenwood
BEGIN:VEVENT
DTSTART;VALUE=DATE:20240513
DTEND;VALUE=DATE:20240519
DTSTAMP:20260421T223410
CREATED:20240513T042614Z
LAST-MODIFIED:20240513T042614Z
UID:29512-1715558400-1716076799@www.gwdhumanesociety.org
SUMMARY:Pets of the Week - Week of May 13\, 2024 (Matilda and Magic)
DESCRIPTION:Pets of the Week\nMatilda and Magic are our Pets of the Week. Please click here to view their complete profiles! \n
URL:https://www.gwdhumanesociety.org/event/pets-of-the-week-week-of-may-13-2024-matilda-and-magic/
LOCATION:Humane Society of Greenwood\, 2820 Airport Rd\, Greenwood\, SC 29649\, 18500 Greenwade Ln\, United States
END:VEVENT
END:VCALENDAR