BEGIN:VCALENDAR
VERSION:2.0
PRODID:-//The Humane Society of Greenwood - ECPv4.7.3//NONSGML v1.0//EN
CALSCALE:GREGORIAN
METHOD:PUBLISH
X-WR-CALNAME:The Humane Society of Greenwood
X-ORIGINAL-URL:https://www.gwdhumanesociety.org
X-WR-CALDESC:Events for The Humane Society of Greenwood
BEGIN:VEVENT
DTSTART;VALUE=DATE:20240129
DTEND;VALUE=DATE:20240204
DTSTAMP:20260422T031437
CREATED:20240129T035756Z
LAST-MODIFIED:20240129T040907Z
UID:29430-1706486400-1707004799@www.gwdhumanesociety.org
SUMMARY:Pets of the Week - January 29th\, 2024\, Raven and Jiji
DESCRIPTION:Pets of the Week\nRaven and Jiji are our Pets of the Week. Please click here to view their complete profiles! \n
URL:https://www.gwdhumanesociety.org/event/pets-of-the-week-january-29th-2024-raven-and-jiji/
LOCATION:Humane Society of Greenwood\, 2820 Airport Rd\, Greenwood\, SC 29649\, 18500 Greenwade Ln\, United States
END:VEVENT
END:VCALENDAR