BEGIN:VCALENDAR
VERSION:2.0
PRODID:-//The Humane Society of Greenwood - ECPv4.7.3//NONSGML v1.0//EN
CALSCALE:GREGORIAN
METHOD:PUBLISH
X-WR-CALNAME:The Humane Society of Greenwood
X-ORIGINAL-URL:https://www.gwdhumanesociety.org
X-WR-CALDESC:Events for The Humane Society of Greenwood
BEGIN:VEVENT
DTSTART;VALUE=DATE:20231204
DTEND;VALUE=DATE:20231210
DTSTAMP:20260422T064018
CREATED:20231205T233214Z
LAST-MODIFIED:20231205T233223Z
UID:29410-1701648000-1702166399@www.gwdhumanesociety.org
SUMMARY:Pets of the Week\, Dec 4th\, 2023 - Miller and Soot
DESCRIPTION:Pets of the Week\nMiller and Soot are our Pets of the Week. Please click here to view their complete profiles! \n
URL:https://www.gwdhumanesociety.org/event/pets-of-the-week-dec-4th-2023-miller-and-soot/
LOCATION:Humane Society of Greenwood Administration Building
END:VEVENT
END:VCALENDAR