BEGIN:VCALENDAR
VERSION:2.0
PRODID:-//The Humane Society of Greenwood - ECPv4.7.3//NONSGML v1.0//EN
CALSCALE:GREGORIAN
METHOD:PUBLISH
X-WR-CALNAME:The Humane Society of Greenwood
X-ORIGINAL-URL:https://www.gwdhumanesociety.org
X-WR-CALDESC:Events for The Humane Society of Greenwood
BEGIN:VEVENT
DTSTART;VALUE=DATE:20230807
DTEND;VALUE=DATE:20230813
DTSTAMP:20260422T125928
CREATED:20230807T015016Z
LAST-MODIFIED:20230807T015401Z
UID:29376-1691366400-1691884799@www.gwdhumanesociety.org
SUMMARY:Pets of the Week\, August 7th\, 2023 - Coco and Wasabi
DESCRIPTION:Pets of the Week\nCoco and Wasabi are our Pets of the Week. Please click here to view their complete profiles! \n
URL:https://www.gwdhumanesociety.org/event/pets-of-the-week-august-7th-2023-coco-and-wasabi/
LOCATION:Humane Society of Greenwood\, 2820 Airport Rd\, Greenwood\, SC 29649\, 18500 Greenwade Ln\, United States
END:VEVENT
END:VCALENDAR