BEGIN:VCALENDAR
VERSION:2.0
PRODID:-//The Humane Society of Greenwood - ECPv4.7.3//NONSGML v1.0//EN
CALSCALE:GREGORIAN
METHOD:PUBLISH
X-WR-CALNAME:The Humane Society of Greenwood
X-ORIGINAL-URL:https://www.gwdhumanesociety.org
X-WR-CALDESC:Events for The Humane Society of Greenwood
BEGIN:VEVENT
DTSTART;VALUE=DATE:20230109
DTEND;VALUE=DATE:20230115
DTSTAMP:20260422T234458
CREATED:20230109T215039Z
LAST-MODIFIED:20230109T215812Z
UID:28805-1673222400-1673740799@www.gwdhumanesociety.org
SUMMARY:Pets of the Week\, January 9th 2023 - Phillip and Maple
DESCRIPTION:Pets of the Week\nPhillip and Maple are our Pets of the Week. Please click here to view their complete profiles! \n
URL:https://www.gwdhumanesociety.org/event/pets-of-the-week-january-9th-2023-phillip-and-maple/
LOCATION:Humane Society of Greenwood\, 2820 Airport Rd\, Greenwood\, SC 29649\, 18500 Greenwade Ln\, United States
END:VEVENT
END:VCALENDAR