BEGIN:VCALENDAR
VERSION:2.0
PRODID:-//The Humane Society of Greenwood - ECPv4.7.3//NONSGML v1.0//EN
CALSCALE:GREGORIAN
METHOD:PUBLISH
X-WR-CALNAME:The Humane Society of Greenwood
X-ORIGINAL-URL:https://www.gwdhumanesociety.org
X-WR-CALDESC:Events for The Humane Society of Greenwood
BEGIN:VEVENT
DTSTART;VALUE=DATE:20221205
DTEND;VALUE=DATE:20221211
DTSTAMP:20260423T021210
CREATED:20221206T155431Z
LAST-MODIFIED:20221206T155431Z
UID:28557-1670198400-1670716799@www.gwdhumanesociety.org
SUMMARY:Pets of the Week\, December 6\, 2022 - Luna and Shadow
DESCRIPTION:Pets of the Week\nLuna and Shadow are our Pets of the Week. Please click here to view their complete profiles! \n
URL:https://www.gwdhumanesociety.org/event/pets-of-the-week-december-6-2022-luna-and-shadow/
LOCATION:Humane Society of Greenwood\, 2820 Airport Rd\, Greenwood\, SC 29649\, 18500 Greenwade Ln\, United States
END:VEVENT
BEGIN:VEVENT
DTSTART;TZID=America/New_York:20221210T110000
DTEND;TZID=America/New_York:20221210T140000
DTSTAMP:20260423T021210
CREATED:20221103T220147Z
LAST-MODIFIED:20221103T220147Z
UID:28414-1670670000-1670680800@www.gwdhumanesociety.org
SUMMARY:December 10th - 'Woof Raffle' 11am-2pm
DESCRIPTION:December 10th &#8211; &#8216;Woof Raffle&#8217; 11am-2pm \n
URL:https://www.gwdhumanesociety.org/event/december-10th-woof-raffle-11am-2pm/
LOCATION:Humane Society of Greenwood\, 2820 Airport Rd\, Greenwood\, SC 29649\, 18500 Greenwade Ln\, United States
END:VEVENT
END:VCALENDAR