BEGIN:VCALENDAR
VERSION:2.0
PRODID:-//The Humane Society of Greenwood - ECPv4.7.3//NONSGML v1.0//EN
CALSCALE:GREGORIAN
METHOD:PUBLISH
X-WR-CALNAME:The Humane Society of Greenwood
X-ORIGINAL-URL:https://www.gwdhumanesociety.org
X-WR-CALDESC:Events for The Humane Society of Greenwood
BEGIN:VEVENT
DTSTART;VALUE=DATE:20221129
DTEND;VALUE=DATE:20221204
DTSTAMP:20260423T021209
CREATED:20221103T220025Z
LAST-MODIFIED:20221103T220025Z
UID:28410-1669680000-1670111999@www.gwdhumanesociety.org
SUMMARY:November 29th-December 3rd - Starbucks Adoption Week
DESCRIPTION:November 29th-December 3rd &#8211; Starbucks Adoption Week \n
URL:https://www.gwdhumanesociety.org/event/november-29th-december-3rd-starbucks-adoption-week/
END:VEVENT
BEGIN:VEVENT
DTSTART;TZID=America/New_York:20221203T090000
DTEND;TZID=America/New_York:20221203T130000
DTSTAMP:20260423T021209
CREATED:20221103T220115Z
LAST-MODIFIED:20221103T220115Z
UID:28412-1670058000-1670072400@www.gwdhumanesociety.org
SUMMARY:December 3rd - Santa Paws @ HSOG 9am-1pm
DESCRIPTION:December 3rd &#8211; Santa Paws @ HSOG 9am-1pm \n
URL:https://www.gwdhumanesociety.org/event/december-3rd-santa-paws-hsog-9am-1pm/
LOCATION:Humane Society of Greenwood\, 2820 Airport Rd\, Greenwood\, SC 29649\, 18500 Greenwade Ln\, United States
END:VEVENT
END:VCALENDAR