BEGIN:VCALENDAR
VERSION:2.0
PRODID:-//The Humane Society of Greenwood - ECPv4.7.3//NONSGML v1.0//EN
CALSCALE:GREGORIAN
METHOD:PUBLISH
X-WR-CALNAME:The Humane Society of Greenwood
X-ORIGINAL-URL:https://www.gwdhumanesociety.org
X-WR-CALDESC:Events for The Humane Society of Greenwood
BEGIN:VEVENT
DTSTART;VALUE=DATE:20221107
DTEND;VALUE=DATE:20221113
DTSTAMP:20260423T212217
CREATED:20221106T155316Z
LAST-MODIFIED:20221106T155444Z
UID:28423-1667779200-1668297599@www.gwdhumanesociety.org
SUMMARY:Pets of the Week  November 7\, 2022 - Boots and Sable
DESCRIPTION:Pets of the Week\nBoots and Sable are our Pets of the Week. Please click here to view their complete profiles! \n
URL:https://www.gwdhumanesociety.org/event/28423/
LOCATION:Humane Society of Greenwood\, 2820 Airport Rd\, Greenwood\, SC 29649\, 18500 Greenwade Ln\, United States
END:VEVENT
BEGIN:VEVENT
DTSTART;VALUE=DATE:20221108
DTEND;VALUE=DATE:20221113
DTSTAMP:20260423T212217
CREATED:20221103T215835Z
LAST-MODIFIED:20221103T215844Z
UID:28404-1667865600-1668297599@www.gwdhumanesociety.org
SUMMARY:November 8th-12th 11am-3pm - PetSmart National Adoption Week
DESCRIPTION:November 8th-12th 11am-3pm &#8211; PetSmart National Adoption Week \n
URL:https://www.gwdhumanesociety.org/event/november-8th-12th-11am-3pm-petsmart-national-adoption-week/
END:VEVENT
END:VCALENDAR