BEGIN:VCALENDAR
VERSION:2.0
PRODID:-//The Humane Society of Greenwood - ECPv4.7.3//NONSGML v1.0//EN
CALSCALE:GREGORIAN
METHOD:PUBLISH
X-WR-CALNAME:The Humane Society of Greenwood
X-ORIGINAL-URL:https://www.gwdhumanesociety.org
X-WR-CALDESC:Events for The Humane Society of Greenwood
BEGIN:VEVENT
DTSTART;VALUE=DATE:20221017
DTEND;VALUE=DATE:20221023
DTSTAMP:20260425T030014
CREATED:20221019T002608Z
LAST-MODIFIED:20221019T002630Z
UID:28346-1665964800-1666483199@www.gwdhumanesociety.org
SUMMARY:Pets of the Week\, October 17th 2022 – Ellie and Brian
DESCRIPTION:Pets of the Week\nEllie and Brian are our Pets of the Week. Please click here to view their complete profiles! \n
URL:https://www.gwdhumanesociety.org/event/pets-of-the-week-october-17th-2022-ellie-and-brian/
LOCATION:Humane Society of Greenwood\, 2820 Airport Rd\, Greenwood\, SC 29649\, 18500 Greenwade Ln\, United States
END:VEVENT
END:VCALENDAR