BEGIN:VCALENDAR
VERSION:2.0
PRODID:-//The Humane Society of Greenwood - ECPv4.7.3//NONSGML v1.0//EN
CALSCALE:GREGORIAN
METHOD:PUBLISH
X-WR-CALNAME:The Humane Society of Greenwood
X-ORIGINAL-URL:https://www.gwdhumanesociety.org
X-WR-CALDESC:Events for The Humane Society of Greenwood
BEGIN:VEVENT
DTSTART;VALUE=DATE:20220418
DTEND;VALUE=DATE:20220424
DTSTAMP:20260423T151017
CREATED:20220419T222856Z
LAST-MODIFIED:20220419T225219Z
UID:27355-1650240000-1650758399@www.gwdhumanesociety.org
SUMMARY:Pets of the Week - Quavo and Whiskers (4/18 - 4/23/22)
DESCRIPTION:Pets of the Week\nQuavo and Whiskers are our Pets of the Week. Please click here to view their complete profiles! \n
URL:https://www.gwdhumanesociety.org/event/pets-of-the-week-quavo-and-whiskers-4-18-4-23-22/
LOCATION:Humane Society of Greenwood\, 2820 Airport Rd\, Greenwood\, SC 29649\, 18500 Greenwade Ln\, United States
END:VEVENT
END:VCALENDAR