BEGIN:VCALENDAR
VERSION:2.0
PRODID:-//The Humane Society of Greenwood - ECPv4.7.3//NONSGML v1.0//EN
CALSCALE:GREGORIAN
METHOD:PUBLISH
X-WR-CALNAME:The Humane Society of Greenwood
X-ORIGINAL-URL:https://www.gwdhumanesociety.org
X-WR-CALDESC:Events for The Humane Society of Greenwood
BEGIN:VEVENT
DTSTART;VALUE=DATE:20220411
DTEND;VALUE=DATE:20220417
DTSTAMP:20260423T151308
CREATED:20220414T225959Z
LAST-MODIFIED:20220414T230437Z
UID:27340-1649635200-1650153599@www.gwdhumanesociety.org
SUMMARY:Pets of the Week - Woody and Buzz (4/11 - 4/16/22)
DESCRIPTION:Woody and Buzz\nWoody and Buzz are our Pets of the week. Please click here to view their complete profiles! \n
URL:https://www.gwdhumanesociety.org/event/pets-of-the-week-woody-and-buzz-4-11-4-16-22/
LOCATION:Humane Society of Greenwood\, 2820 Airport Rd\, Greenwood\, SC 29649\, 18500 Greenwade Ln\, United States
END:VEVENT
END:VCALENDAR