BEGIN:VCALENDAR
VERSION:2.0
PRODID:-//The Humane Society of Greenwood - ECPv4.7.3//NONSGML v1.0//EN
CALSCALE:GREGORIAN
METHOD:PUBLISH
X-WR-CALNAME:The Humane Society of Greenwood
X-ORIGINAL-URL:https://www.gwdhumanesociety.org
X-WR-CALDESC:Events for The Humane Society of Greenwood
BEGIN:VEVENT
DTSTART;VALUE=DATE:20201116
DTEND;VALUE=DATE:20201122
DTSTAMP:20260422T024205
CREATED:20201116T041344Z
LAST-MODIFIED:20201116T041344Z
UID:15228-1605484800-1606003199@www.gwdhumanesociety.org
SUMMARY:Pets if the week (Nov. 16 - Nov. 21) Bruno and Callie
DESCRIPTION:Pets of the Week\nBruno and Callie are our Pets of the Week. Please click here to view their complete profiles. \n
URL:https://www.gwdhumanesociety.org/event/pets-if-the-week-nov-16-nov-21-bruno-and-callie/
LOCATION:Humane Society of Greenwood\, 2820 Airport Rd\, Greenwood\, SC 29649\, 18500 Greenwade Ln\, United States
END:VEVENT
BEGIN:VEVENT
DTSTART;TZID=America/New_York:20201121T100000
DTEND;TZID=America/New_York:20201121T110000
DTSTAMP:20260422T024205
CREATED:20201022T032552Z
LAST-MODIFIED:20201121T004039Z
UID:15034-1605952800-1605956400@www.gwdhumanesociety.org
SUMMARY:Volunteer Orientation
DESCRIPTION:
URL:https://www.gwdhumanesociety.org/event/volunteer-orientation-42/
END:VEVENT
END:VCALENDAR