BEGIN:VCALENDAR
VERSION:2.0
PRODID:-//The Humane Society of Greenwood - ECPv4.7.3//NONSGML v1.0//EN
CALSCALE:GREGORIAN
METHOD:PUBLISH
X-WR-CALNAME:The Humane Society of Greenwood
X-ORIGINAL-URL:https://www.gwdhumanesociety.org
X-WR-CALDESC:Events for The Humane Society of Greenwood
BEGIN:VEVENT
DTSTART;VALUE=DATE:20201019
DTEND;VALUE=DATE:20201025
DTSTAMP:20260422T181958
CREATED:20201015T154620Z
LAST-MODIFIED:20201015T154620Z
UID:14979-1603065600-1603583999@www.gwdhumanesociety.org
SUMMARY:Pets of the Week (Oct. 19 - Oct. 24) Bash and Nazar
DESCRIPTION:Pets of the Week\nBash and Nazar are our Pets of the Week. Please click here to view their complete profiles! \n
URL:https://www.gwdhumanesociety.org/event/pets-of-the-week-oct-19-oct-24-bash-and-nazar/
LOCATION:Humane Society of Greenwood\, 2820 Airport Rd\, Greenwood\, SC 29649\, 18500 Greenwade Ln\, United States
END:VEVENT
BEGIN:VEVENT
DTSTART;TZID=America/New_York:20201021T153000
DTEND;TZID=America/New_York:20201021T163000
DTSTAMP:20260422T181958
CREATED:20201009T032517Z
LAST-MODIFIED:20201021T032511Z
UID:14946-1603294200-1603297800@www.gwdhumanesociety.org
SUMMARY:Volunteer Orientation
DESCRIPTION:Join us for a volunteer orientation! We will cover the different opportunities to see what you will enjoy most\, review the history of the shelter\, and tour the facility. \n
URL:https://www.gwdhumanesociety.org/event/volunteer-orientation-38/
LOCATION:2820 Airport Rd\, Greenwood\, SC 29649\, USA\, 2820 Airport Rd\, United States
END:VEVENT
END:VCALENDAR