BEGIN:VCALENDAR
VERSION:2.0
PRODID:-//The Humane Society of Greenwood - ECPv4.7.3//NONSGML v1.0//EN
CALSCALE:GREGORIAN
METHOD:PUBLISH
X-WR-CALNAME:The Humane Society of Greenwood
X-ORIGINAL-URL:https://www.gwdhumanesociety.org
X-WR-CALDESC:Events for The Humane Society of Greenwood
BEGIN:VEVENT
DTSTART;VALUE=DATE:20201005
DTEND;VALUE=DATE:20201011
DTSTAMP:20260422T182038
CREATED:20201004T145442Z
LAST-MODIFIED:20201004T145442Z
UID:14914-1601856000-1602374399@www.gwdhumanesociety.org
SUMMARY:Pets of the Week\, October 5th - Astro and Maxwell
DESCRIPTION:Pets of the Week\nAstro and Maxwell are our Pets of the Week this week. Please click here to view their complete profiles! \n
URL:https://www.gwdhumanesociety.org/event/pets-of-the-week-october-5th-astro-and-maxwell/
LOCATION:Humane Society of Greenwood\, 2820 Airport Rd\, Greenwood\, SC 29649\, 18500 Greenwade Ln\, United States
END:VEVENT
END:VCALENDAR