BEGIN:VCALENDAR
VERSION:2.0
PRODID:-//The Humane Society of Greenwood - ECPv4.7.3//NONSGML v1.0//EN
CALSCALE:GREGORIAN
METHOD:PUBLISH
X-WR-CALNAME:The Humane Society of Greenwood
X-ORIGINAL-URL:https://www.gwdhumanesociety.org
X-WR-CALDESC:Events for The Humane Society of Greenwood
BEGIN:VEVENT
DTSTART;VALUE=DATE:20200803
DTEND;VALUE=DATE:20200809
DTSTAMP:20260422T183224
CREATED:20200730T224442Z
LAST-MODIFIED:20200730T224455Z
UID:14463-1596412800-1596931199@www.gwdhumanesociety.org
SUMMARY:Pets of the Week (Aug 3 - Aug 8) - Batilda and Kit Kit
DESCRIPTION:Pets of the Week\nBatilda and Kit Kit are our Pets of the Week. Please click here to view their complete profiles! \n
URL:https://www.gwdhumanesociety.org/event/pets-of-the-week-aug-3-aug-8-batilda-and-kit-kit/
LOCATION:Humane Society of Greenwood\, 2820 Airport Rd\, Greenwood\, SC 29649\, 18500 Greenwade Ln\, United States
END:VEVENT
BEGIN:VEVENT
DTSTART;TZID=America/New_York:20200808T120000
DTEND;TZID=America/New_York:20200808T160000
DTSTAMP:20260422T183224
CREATED:20200709T120215Z
LAST-MODIFIED:20200808T193228Z
UID:14314-1596888000-1596902400@www.gwdhumanesociety.org
SUMMARY:PetSmart Adoption Event
DESCRIPTION:
URL:https://www.gwdhumanesociety.org/event/petsmart-adoption-event-36/
END:VEVENT
END:VCALENDAR