BEGIN:VCALENDAR
VERSION:2.0
PRODID:-//The Humane Society of Greenwood - ECPv4.7.3//NONSGML v1.0//EN
CALSCALE:GREGORIAN
METHOD:PUBLISH
X-WR-CALNAME:The Humane Society of Greenwood
X-ORIGINAL-URL:https://www.gwdhumanesociety.org
X-WR-CALDESC:Events for The Humane Society of Greenwood
BEGIN:VEVENT
DTSTART;VALUE=DATE:20200615
DTEND;VALUE=DATE:20200621
DTSTAMP:20260422T214818
CREATED:20200615T145034Z
LAST-MODIFIED:20200615T145034Z
UID:14156-1592179200-1592697599@www.gwdhumanesociety.org
SUMMARY:Pets of the Week - W/O June 15\, 2020 (Solace and Cierra)
DESCRIPTION:Pets of the Week\nSolace and Cierra are our Pets of the Week. Please click here to read their complete profiles! \n
URL:https://www.gwdhumanesociety.org/event/pets-of-the-week-w-o-june-15-2020-solace-and-cierra/
LOCATION:Humane Society of Greenwood\, 2820 Airport Road\, Greenwood\, SC\, 29649\, United States
END:VEVENT
END:VCALENDAR