BEGIN:VCALENDAR
VERSION:2.0
PRODID:-//The Humane Society of Greenwood - ECPv4.7.3//NONSGML v1.0//EN
CALSCALE:GREGORIAN
METHOD:PUBLISH
X-WR-CALNAME:The Humane Society of Greenwood
X-ORIGINAL-URL:https://www.gwdhumanesociety.org
X-WR-CALDESC:Events for The Humane Society of Greenwood
BEGIN:VEVENT
DTSTART;VALUE=DATE:20200525
DTEND;VALUE=DATE:20200531
DTSTAMP:20260422T230201
CREATED:20200525T010937Z
LAST-MODIFIED:20200525T011014Z
UID:13990-1590364800-1590883199@www.gwdhumanesociety.org
SUMMARY:Pets of the Week - May 25\, 2020 (Beans and Phoenix)
DESCRIPTION:Pets of the Week\nBeans and Phoenix are our Pets of the Week. Please click here to view their complete profiles! \n
URL:https://www.gwdhumanesociety.org/event/pets-of-the-week-may-25-2020-beans-and-phoenix/
LOCATION:Humane Society of Greenwood\, 2820 Airport Rd\, Greenwood\, SC 29649\, 18500 Greenwade Ln\, United States
END:VEVENT
END:VCALENDAR