BEGIN:VCALENDAR
VERSION:2.0
PRODID:-//The Humane Society of Greenwood - ECPv4.7.3//NONSGML v1.0//EN
CALSCALE:GREGORIAN
METHOD:PUBLISH
X-WR-CALNAME:The Humane Society of Greenwood
X-ORIGINAL-URL:https://www.gwdhumanesociety.org
X-WR-CALDESC:Events for The Humane Society of Greenwood
BEGIN:VEVENT
DTSTART;VALUE=DATE:20200512
DTEND;VALUE=DATE:20200517
DTSTAMP:20260422T230249
CREATED:20200508T031252Z
LAST-MODIFIED:20200508T031429Z
UID:13873-1589241600-1589673599@www.gwdhumanesociety.org
SUMMARY:Pets of the Week - May 11\, 2020 (Cooper and Gabriel)
DESCRIPTION:Pets of the Week\nCooper and Gabriel are our Pets of the Week. Please click here to view their complete profiles! \n
URL:https://www.gwdhumanesociety.org/event/pets-of-the-week-may-11-2020-cooper-and-gabriel/
LOCATION:Humane Society of Greenwood\, 2820 Airport Road\, Greenwood\, SC\, 29649\, United States
END:VEVENT
END:VCALENDAR