BEGIN:VCALENDAR
VERSION:2.0
PRODID:-//The Humane Society of Greenwood - ECPv4.7.3//NONSGML v1.0//EN
CALSCALE:GREGORIAN
METHOD:PUBLISH
X-WR-CALNAME:The Humane Society of Greenwood
X-ORIGINAL-URL:https://www.gwdhumanesociety.org
X-WR-CALDESC:Events for The Humane Society of Greenwood
BEGIN:VEVENT
DTSTART;VALUE=DATE:20200413
DTEND;VALUE=DATE:20200419
DTSTAMP:20260423T003858
CREATED:20200413T022304Z
LAST-MODIFIED:20200413T024938Z
UID:13718-1586736000-1587254399@www.gwdhumanesociety.org
SUMMARY:Pets of the Week - April 13\, 2020 (Buster and Cuddles)
DESCRIPTION:Pets of the Week\nCALL AHEAD FOR APPOINTMENT ONLY. Buster and Cuddles are our Pets of the Week. Please click here to view their complete profiles! \n
URL:https://www.gwdhumanesociety.org/event/pets-of-the-week-april-13-2020-buster-and-cuddles/
LOCATION:Humane Society of Greenwood\, 2820 Airport Road\, Greenwood\, SC\, 29649\, United States
END:VEVENT
END:VCALENDAR