BEGIN:VCALENDAR
VERSION:2.0
PRODID:-//The Humane Society of Greenwood - ECPv4.7.3//NONSGML v1.0//EN
CALSCALE:GREGORIAN
METHOD:PUBLISH
X-WR-CALNAME:The Humane Society of Greenwood
X-ORIGINAL-URL:https://www.gwdhumanesociety.org
X-WR-CALDESC:Events for The Humane Society of Greenwood
BEGIN:VEVENT
DTSTART;TZID=America/New_York:20200331T120000
DTEND;TZID=America/New_York:20200404T170000
DTSTAMP:20260423T003857
CREATED:20200330T235441Z
LAST-MODIFIED:20200330T235441Z
UID:13646-1585656000-1586019600@www.gwdhumanesociety.org
SUMMARY:Pets of the Week - March 30\, 2020 (Pumpkin and Lexi)
DESCRIPTION:Pets of the Week\n
URL:https://www.gwdhumanesociety.org/event/pets-of-the-week-march-30-2020-pumpkin-and-lexi/
LOCATION:Humane Society of Greenwood\, 2820 Airport Road\, Greenwood\, SC\, 29649\, United States
END:VEVENT
END:VCALENDAR