BEGIN:VCALENDAR
VERSION:2.0
PRODID:-//The Humane Society of Greenwood - ECPv4.7.3//NONSGML v1.0//EN
CALSCALE:GREGORIAN
METHOD:PUBLISH
X-WR-CALNAME:The Humane Society of Greenwood
X-ORIGINAL-URL:https://www.gwdhumanesociety.org
X-WR-CALDESC:Events for The Humane Society of Greenwood
BEGIN:VEVENT
DTSTART;TZID=America/New_York:20200317T120000
DTEND;TZID=America/New_York:20200321T170000
DTSTAMP:20260423T040548
CREATED:20200313T041132Z
LAST-MODIFIED:20200313T041132Z
UID:13538-1584446400-1584810000@www.gwdhumanesociety.org
SUMMARY:Pets of the Week - March 16\, 2020 (Dasher and Violet)
DESCRIPTION:Pets of the Week\nDasher and Violet are our Pets of the Week. Please click here to view their complete profiles! \n
URL:https://www.gwdhumanesociety.org/event/pets-of-the-week-march-16-2020-dasher-and-violet/
LOCATION:Humane Society of Greenwood\, 2820 Airport Road\, Greenwood\, SC\, 29649\, United States
END:VEVENT
BEGIN:VEVENT
DTSTART;TZID=America/New_York:20200317T120000
DTEND;TZID=America/New_York:20200321T170000
DTSTAMP:20260423T040548
CREATED:20200323T011939Z
LAST-MODIFIED:20200323T012213Z
UID:13599-1584446400-1584810000@www.gwdhumanesociety.org
SUMMARY:Pets of the Week - March 23\, 2020 (Dave and Maggie)
DESCRIPTION:Pets of the Week\nDave and Maggie are our Pets of the Week. Please click here to view their complete profiles! \n
URL:https://www.gwdhumanesociety.org/event/pets-of-the-week-march-23-2020-dave-and-maggie/
LOCATION:Humane Society of Greenwood\, 2820 Airport Road\, Greenwood\, SC\, 29649\, United States
END:VEVENT
END:VCALENDAR