BEGIN:VCALENDAR
VERSION:2.0
PRODID:-//The Humane Society of Greenwood - ECPv4.7.3//NONSGML v1.0//EN
CALSCALE:GREGORIAN
METHOD:PUBLISH
X-WR-CALNAME:The Humane Society of Greenwood
X-ORIGINAL-URL:https://www.gwdhumanesociety.org
X-WR-CALDESC:Events for The Humane Society of Greenwood
BEGIN:VEVENT
DTSTART;TZID=America/New_York:20201111T153000
DTEND;TZID=America/New_York:20201111T163000
DTSTAMP:20260421T192839
CREATED:20201022T032552Z
LAST-MODIFIED:20201110T215459Z
UID:15033-1605108600-1605112200@www.gwdhumanesociety.org
SUMMARY:Volunteer Orientation
DESCRIPTION:
URL:https://www.gwdhumanesociety.org/event/volunteer-orientation-41/
END:VEVENT
END:VCALENDAR