BEGIN:VCALENDAR
VERSION:2.0
PRODID:-//The Humane Society of Greenwood - ECPv4.7.3//NONSGML v1.0//EN
CALSCALE:GREGORIAN
METHOD:PUBLISH
X-WR-CALNAME:The Humane Society of Greenwood
X-ORIGINAL-URL:https://www.gwdhumanesociety.org
X-WR-CALDESC:Events for The Humane Society of Greenwood
BEGIN:VEVENT
DTSTART;TZID=America/New_York:20201010T100000
DTEND;TZID=America/New_York:20201010T120000
DTSTAMP:20260421T171158
CREATED:20201007T032050Z
LAST-MODIFIED:20201007T032050Z
UID:14941-1602324000-1602331200@www.gwdhumanesociety.org
SUMMARY:Volunteer Orientation
DESCRIPTION:
URL:https://www.gwdhumanesociety.org/event/volunteer-orientation-36/
LOCATION:Humane Society of Greenwood\, 2820 Airport Rd\, Greenwood\, SC 29649\, 18500 Greenwade Ln\, United States
END:VEVENT
END:VCALENDAR