BEGIN:VCALENDAR
VERSION:2.0
PRODID:-//The Humane Society of Greenwood - ECPv4.7.3//NONSGML v1.0//EN
CALSCALE:GREGORIAN
METHOD:PUBLISH
X-WR-CALNAME:The Humane Society of Greenwood
X-ORIGINAL-URL:https://www.gwdhumanesociety.org
X-WR-CALDESC:Events for The Humane Society of Greenwood
BEGIN:VEVENT
DTSTART;TZID=America/New_York:20220115T090000
DTEND;TZID=America/New_York:20220115T090000
DTSTAMP:20260423T201111
CREATED:20220112T203226Z
LAST-MODIFIED:20220112T203226Z
UID:21963-1642237200-1642237200@www.gwdhumanesociety.org
SUMMARY:Vaccination Clinic at the HSOG on January 15\, 2022\, from 9AM to 12PM.
DESCRIPTION:The Humane Society of Greenwood\, along with Dr. Cochran\, DVM of Chinquapin\nAnimal Hospital\, will host a vaccination clinic at the HSOG on January 15\,\n2022\, from 9AM to 12PM. Free Distemper and Rabies vaccines\, and microchips\nare offered to the first 200 members of our community to stop by with their\ndogs for this clinic. We will use this opportunity to educate our community\nabout distemper and the importance of properly vaccinating your animals. \n
URL:https://www.gwdhumanesociety.org/event/vaccination-clinic-at-the-hsog-on-january-15-2022-from-9am-to-12pm/
LOCATION:Humane Society of Greenwood\, 2820 Airport Rd\, Greenwood\, SC 29649\, 18500 Greenwade Ln\, United States
END:VEVENT
END:VCALENDAR