BEGIN:VCALENDAR
VERSION:2.0
PRODID:-//The Humane Society of Greenwood - ECPv4.7.3//NONSGML v1.0//EN
CALSCALE:GREGORIAN
METHOD:PUBLISH
X-WR-CALNAME:The Humane Society of Greenwood
X-ORIGINAL-URL:https://www.gwdhumanesociety.org
X-WR-CALDESC:Events for The Humane Society of Greenwood
BEGIN:VEVENT
DTSTART;TZID=America/New_York:20230520T100000
DTEND;TZID=America/New_York:20230520T110000
DTSTAMP:20260425T155731
CREATED:20230516T203118Z
LAST-MODIFIED:20230516T203118Z
UID:29333-1684576800-1684580400@www.gwdhumanesociety.org
SUMMARY:Tuesday May 20th 10-11am - Volunteer Orientation
DESCRIPTION:
URL:https://www.gwdhumanesociety.org/event/tuesday-may-20th-10-11am-volunteer-orientation/
LOCATION:Humane Society of Greenwood\, 2820 Airport Rd\, Greenwood\, SC 29649\, 18500 Greenwade Ln\, United States
END:VEVENT
END:VCALENDAR