BEGIN:VCALENDAR
VERSION:2.0
PRODID:-//The Humane Society of Greenwood - ECPv4.7.3//NONSGML v1.0//EN
CALSCALE:GREGORIAN
METHOD:PUBLISH
X-WR-CALNAME:The Humane Society of Greenwood
X-ORIGINAL-URL:https://www.gwdhumanesociety.org
X-WR-CALDESC:Events for The Humane Society of Greenwood
BEGIN:VEVENT
DTSTART;TZID=America/New_York:20220910T100000
DTEND;TZID=America/New_York:20220910T140000
DTSTAMP:20260423T071811
CREATED:20220803T032539Z
LAST-MODIFIED:20220803T032539Z
UID:27853-1662804000-1662818400@www.gwdhumanesociety.org
SUMMARY:Tractor Supply Adoption Event
DESCRIPTION:Tractor Supply Adoption Event \n
URL:https://www.gwdhumanesociety.org/event/tractor-supply-adoption-event-2/
LOCATION:Tractor Supply Co.\, 109 Towers Dr\, Greenwood\, SC 29649\, USA\, 101 Towers Dr\, United States
END:VEVENT
END:VCALENDAR