BEGIN:VCALENDAR
VERSION:2.0
PRODID:-//The Humane Society of Greenwood - ECPv4.7.3//NONSGML v1.0//EN
CALSCALE:GREGORIAN
METHOD:PUBLISH
X-WR-CALNAME:The Humane Society of Greenwood
X-ORIGINAL-URL:https://www.gwdhumanesociety.org
X-WR-CALDESC:Events for The Humane Society of Greenwood
BEGIN:VEVENT
DTSTART;TZID=America/New_York:20230520T110000
DTEND;TZID=America/New_York:20230520T140000
DTSTAMP:20260425T190309
CREATED:20230421T035245Z
LAST-MODIFIED:20230421T035245Z
UID:29270-1684580400-1684591200@www.gwdhumanesociety.org
SUMMARY:Summer Palooza with the Boys and Girls club @ 125 N. University Street in Greenwood Saturday May 20th 11am-2pm
DESCRIPTION:Summer Palooza with the Boys and Girls club @ 125 N. University Street in Greenwood Saturday May 20th 11am-2pm \n
URL:https://www.gwdhumanesociety.org/event/summer-palooza-with-the-boys-and-girls-club-125-n-university-street-in-greenwood-saturday-may-20th-11am-2pm/
END:VEVENT
END:VCALENDAR