BEGIN:VCALENDAR
VERSION:2.0
PRODID:-//The Humane Society of Greenwood - ECPv4.7.3//NONSGML v1.0//EN
CALSCALE:GREGORIAN
METHOD:PUBLISH
X-WR-CALNAME:The Humane Society of Greenwood
X-ORIGINAL-URL:https://www.gwdhumanesociety.org
X-WR-CALDESC:Events for The Humane Society of Greenwood
BEGIN:VEVENT
DTSTART;TZID=America/New_York:20230414T103000
DTEND;TZID=America/New_York:20230414T220000
DTSTAMP:20260425T222436
CREATED:20230421T034707Z
LAST-MODIFIED:20230421T034707Z
UID:29247-1681468200-1681509600@www.gwdhumanesociety.org
SUMMARY:Spirit Day @ Dairy Queen Friday April 14th 10:30am-10pm
DESCRIPTION:Spirit Day @ Dairy Queen Friday April 14th 10:30am-10pm \n
URL:https://www.gwdhumanesociety.org/event/spirit-day-dairy-queen-friday-april-14th-1030am-10pm/
END:VEVENT
END:VCALENDAR