BEGIN:VCALENDAR
VERSION:2.0
PRODID:-//The Humane Society of Greenwood - ECPv4.7.3//NONSGML v1.0//EN
CALSCALE:GREGORIAN
METHOD:PUBLISH
X-WR-CALNAME:The Humane Society of Greenwood
X-ORIGINAL-URL:https://www.gwdhumanesociety.org
X-WR-CALDESC:Events for The Humane Society of Greenwood
BEGIN:VEVENT
DTSTART;TZID=America/New_York:20230527T120000
DTEND;TZID=America/New_York:20230527T160000
DTSTAMP:20260425T142913
CREATED:20230516T203006Z
LAST-MODIFIED:20230516T203028Z
UID:29331-1685188800-1685203200@www.gwdhumanesociety.org
SUMMARY:Saturday May 27th 12-4pm - Adoption Event at Break on the Lake
DESCRIPTION:
URL:https://www.gwdhumanesociety.org/event/saturday-may-27th-12-4pm-adoption-event-at-break-on-the-lake/
END:VEVENT
END:VCALENDAR