BEGIN:VCALENDAR
VERSION:2.0
PRODID:-//The Humane Society of Greenwood - ECPv4.7.3//NONSGML v1.0//EN
CALSCALE:GREGORIAN
METHOD:PUBLISH
X-WR-CALNAME:The Humane Society of Greenwood
X-ORIGINAL-URL:https://www.gwdhumanesociety.org
X-WR-CALDESC:Events for The Humane Society of Greenwood
BEGIN:VEVENT
DTSTART;TZID=America/New_York:20230420T110000
DTEND;TZID=America/New_York:20230420T120000
DTSTAMP:20260425T192218
CREATED:20230421T035220Z
LAST-MODIFIED:20230421T035220Z
UID:29268-1681988400-1681992000@www.gwdhumanesociety.org
SUMMARY:Puppy Yoga @ the shelter Saturday May 20th 11am-12pm
DESCRIPTION:Puppy Yoga @ the shelter Saturday May 20th 11am-12pm \n
URL:https://www.gwdhumanesociety.org/event/puppy-yoga-the-shelter-saturday-may-20th-11am-12pm/
END:VEVENT
END:VCALENDAR