BEGIN:VCALENDAR
VERSION:2.0
PRODID:-//The Humane Society of Greenwood - ECPv4.7.3//NONSGML v1.0//EN
CALSCALE:GREGORIAN
METHOD:PUBLISH
X-WR-CALNAME:The Humane Society of Greenwood
X-ORIGINAL-URL:https://www.gwdhumanesociety.org
X-WR-CALDESC:Events for The Humane Society of Greenwood
BEGIN:VEVENT
DTSTART;VALUE=DATE:20200727
DTEND;VALUE=DATE:20200802
DTSTAMP:20260421T093543
CREATED:20200723T160522Z
LAST-MODIFIED:20200723T160522Z
UID:14416-1595808000-1596326399@www.gwdhumanesociety.org
SUMMARY:POTW – Simba and Dahlia (July 27 – Aug 1)
DESCRIPTION:Pets of the Week\nSimba and Dahlia are our Pets of the Week. Please click here to view their complete profiles! \n
URL:https://www.gwdhumanesociety.org/event/potw-simba-and-dahlia-july-27-aug-1/
LOCATION:Humane Society of Greenwood\, 2820 Airport Rd\, Greenwood\, SC 29649\, 18500 Greenwade Ln\, United States
END:VEVENT
END:VCALENDAR