BEGIN:VCALENDAR
VERSION:2.0
PRODID:-//The Humane Society of Greenwood - ECPv4.7.3//NONSGML v1.0//EN
CALSCALE:GREGORIAN
METHOD:PUBLISH
X-WR-CALNAME:The Humane Society of Greenwood
X-ORIGINAL-URL:https://www.gwdhumanesociety.org
X-WR-CALDESC:Events for The Humane Society of Greenwood
BEGIN:VEVENT
DTSTART;TZID=America/New_York:20201010T120000
DTEND;TZID=America/New_York:20201010T160000
DTSTAMP:20260421T122250
CREATED:20200910T032026Z
LAST-MODIFIED:20201005T033635Z
UID:14764-1602331200-1602345600@www.gwdhumanesociety.org
SUMMARY:PetSmart Adoption Event
DESCRIPTION:
URL:https://www.gwdhumanesociety.org/event/petsmart-adoption-event-38/
END:VEVENT
END:VCALENDAR