BEGIN:VCALENDAR
VERSION:2.0
PRODID:-//The Humane Society of Greenwood - ECPv4.7.3//NONSGML v1.0//EN
CALSCALE:GREGORIAN
METHOD:PUBLISH
X-WR-CALNAME:The Humane Society of Greenwood
X-ORIGINAL-URL:https://www.gwdhumanesociety.org
X-WR-CALDESC:Events for The Humane Society of Greenwood
BEGIN:VEVENT
DTSTART;TZID=America/New_York:20200711T120000
DTEND;TZID=America/New_York:20200711T160000
DTSTAMP:20260421T140242
CREATED:20200611T050220Z
LAST-MODIFIED:20200711T123329Z
UID:14134-1594468800-1594483200@www.gwdhumanesociety.org
SUMMARY:PetSmart Adoption Event
DESCRIPTION:
URL:https://www.gwdhumanesociety.org/event/petsmart-adoption-event-35/
END:VEVENT
END:VCALENDAR