BEGIN:VCALENDAR
VERSION:2.0
PRODID:-//The Humane Society of Greenwood - ECPv4.7.3//NONSGML v1.0//EN
CALSCALE:GREGORIAN
METHOD:PUBLISH
X-WR-CALNAME:The Humane Society of Greenwood
X-ORIGINAL-URL:https://www.gwdhumanesociety.org
X-WR-CALDESC:Events for The Humane Society of Greenwood
BEGIN:VEVENT
DTSTART;VALUE=DATE:20200921
DTEND;VALUE=DATE:20200927
DTSTAMP:20260421T122854
CREATED:20200917T145858Z
LAST-MODIFIED:20200917T145858Z
UID:14817-1600646400-1601164799@www.gwdhumanesociety.org
SUMMARY:Pets of the Week (Sept. 21 - Sept. 26) Nash and Delilah
DESCRIPTION:Pets of the Week\nNash and Delilah are our Pets of the Week. Please click here to view their complete profiles! \n
URL:https://www.gwdhumanesociety.org/event/pets-of-the-week-sept-21-sept-26-nash-and-delilah/
LOCATION:Humane Society of Greenwood\, 2820 Airport Rd\, Greenwood\, SC 29649\, 18500 Greenwade Ln\, United States
END:VEVENT
END:VCALENDAR