BEGIN:VCALENDAR
VERSION:2.0
PRODID:-//The Humane Society of Greenwood - ECPv4.7.3//NONSGML v1.0//EN
CALSCALE:GREGORIAN
METHOD:PUBLISH
X-WR-CALNAME:The Humane Society of Greenwood
X-ORIGINAL-URL:https://www.gwdhumanesociety.org
X-WR-CALDESC:Events for The Humane Society of Greenwood
BEGIN:VEVENT
DTSTART;VALUE=DATE:20200914
DTEND;VALUE=DATE:20200920
DTSTAMP:20260421T122921
CREATED:20200911T210239Z
LAST-MODIFIED:20200911T210536Z
UID:14785-1600041600-1600559999@www.gwdhumanesociety.org
SUMMARY:Pets of the Week (Sept. 14 - Sept. 18) Tacoma and Piper
DESCRIPTION:Pets of the Week\nTacoma and Piper are our Pets of the Week. Please click here to view their complete profiles! \n
URL:https://www.gwdhumanesociety.org/event/pets-of-the-week-sept-14-sept-18-tacoma-and-piper/
LOCATION:Humane Society of Greenwood\, 2820 Airport Rd\, Greenwood\, SC 29649\, 18500 Greenwade Ln\, United States
END:VEVENT
END:VCALENDAR