BEGIN:VCALENDAR
VERSION:2.0
PRODID:-//The Humane Society of Greenwood - ECPv4.7.3//NONSGML v1.0//EN
CALSCALE:GREGORIAN
METHOD:PUBLISH
X-WR-CALNAME:The Humane Society of Greenwood
X-ORIGINAL-URL:https://www.gwdhumanesociety.org
X-WR-CALDESC:Events for The Humane Society of Greenwood
BEGIN:VEVENT
DTSTART;VALUE=DATE:20201026
DTEND;VALUE=DATE:20201101
DTSTAMP:20260421T130547
CREATED:20201025T214154Z
LAST-MODIFIED:20201025T215118Z
UID:15052-1603670400-1604188799@www.gwdhumanesociety.org
SUMMARY:Pets of the Week (Oct. 26 - Oct. 31) Capri and Matilda
DESCRIPTION:Pets of the Week\nCapri and Matilda are our Pets of the Week. Please click here to view their complete profiles. \n
URL:https://www.gwdhumanesociety.org/event/pets-of-the-week-oct-26-oct-31-capri-and-matilda/
LOCATION:Humane Society of Greenwood\, 2820 Airport Rd\, Greenwood\, SC 29649\, 18500 Greenwade Ln\, United States
END:VEVENT
END:VCALENDAR