BEGIN:VCALENDAR
VERSION:2.0
PRODID:-//The Humane Society of Greenwood - ECPv4.7.3//NONSGML v1.0//EN
CALSCALE:GREGORIAN
METHOD:PUBLISH
X-WR-CALNAME:The Humane Society of Greenwood
X-ORIGINAL-URL:https://www.gwdhumanesociety.org
X-WR-CALDESC:Events for The Humane Society of Greenwood
BEGIN:VEVENT
DTSTART;VALUE=DATE:20201012
DTEND;VALUE=DATE:20201018
DTSTAMP:20260421T135715
CREATED:20201012T003824Z
LAST-MODIFIED:20201012T003932Z
UID:14954-1602460800-1602979199@www.gwdhumanesociety.org
SUMMARY:Pets of the Week (Oct. 12 - Oct. 17) Benson and Tihana
DESCRIPTION:Pets of the Week\nBenson and Tihana are our Pets of the Week. Please click here to view their complete profiles! \n
URL:https://www.gwdhumanesociety.org/event/pets-of-the-week-oct-12-oct-17-benson-and-tihana/
LOCATION:Humane Society of Greenwood\, 2820 Airport Rd\, Greenwood\, SC 29649\, 18500 Greenwade Ln\, United States
END:VEVENT
END:VCALENDAR