BEGIN:VCALENDAR
VERSION:2.0
PRODID:-//The Humane Society of Greenwood - ECPv4.7.3//NONSGML v1.0//EN
CALSCALE:GREGORIAN
METHOD:PUBLISH
X-WR-CALNAME:The Humane Society of Greenwood
X-ORIGINAL-URL:https://www.gwdhumanesociety.org
X-WR-CALDESC:Events for The Humane Society of Greenwood
BEGIN:VEVENT
DTSTART;VALUE=DATE:20201109
DTEND;VALUE=DATE:20201115
DTSTAMP:20260421T181028
CREATED:20201106T231628Z
LAST-MODIFIED:20201106T232245Z
UID:15179-1604880000-1605398399@www.gwdhumanesociety.org
SUMMARY:Pets of the Week (Nov. 9 - Nov. 14) Elena and Pepper
DESCRIPTION:Pets of the Week\nElena and Pepper are our Pets of the Week. Please click here to view their complete profiles! \n
URL:https://www.gwdhumanesociety.org/event/pets-of-the-week-nov-9-nov-14-elena-and-pepper/
LOCATION:Humane Society of Greenwood\, 2820 Airport Rd\, Greenwood\, SC 29649\, 18500 Greenwade Ln\, United States
END:VEVENT
END:VCALENDAR