BEGIN:VCALENDAR
VERSION:2.0
PRODID:-//The Humane Society of Greenwood - ECPv4.7.3//NONSGML v1.0//EN
CALSCALE:GREGORIAN
METHOD:PUBLISH
X-WR-CALNAME:The Humane Society of Greenwood
X-ORIGINAL-URL:https://www.gwdhumanesociety.org
X-WR-CALDESC:Events for The Humane Society of Greenwood
BEGIN:VEVENT
DTSTART;TZID=America/New_York:20200310T120000
DTEND;TZID=America/New_York:20200314T170000
DTSTAMP:20260423T040711
CREATED:20200306T162513Z
LAST-MODIFIED:20200306T162732Z
UID:13470-1583841600-1584205200@www.gwdhumanesociety.org
SUMMARY:Pets of the Week - March 9\, 2020 (Brad and Mimosa)
DESCRIPTION:Pets of the Week\nBrad and Mimosa are our Pets of the Week. Please click here to view their complete profiles! \n
URL:https://www.gwdhumanesociety.org/event/pets-of-the-week-march-9-2020-brad-and-mimosa/
LOCATION:Humane Society of Greenwood\, 2820 Airport Road\, Greenwood\, SC\, 29649\, United States
END:VEVENT
END:VCALENDAR