BEGIN:VCALENDAR
VERSION:2.0
PRODID:-//The Humane Society of Greenwood - ECPv4.7.3//NONSGML v1.0//EN
CALSCALE:GREGORIAN
METHOD:PUBLISH
X-WR-CALNAME:The Humane Society of Greenwood
X-ORIGINAL-URL:https://www.gwdhumanesociety.org
X-WR-CALDESC:Events for The Humane Society of Greenwood
BEGIN:VEVENT
DTSTART;VALUE=DATE:20230320
DTEND;VALUE=DATE:20230321
DTSTAMP:20260422T223916
CREATED:20230320T031145Z
LAST-MODIFIED:20230320T031145Z
UID:29084-1679270400-1679356799@www.gwdhumanesociety.org
SUMMARY:Pets of the Week\, March 20\, 2023 Sargent and Simba
DESCRIPTION:Pets of the Week\nSargent and Simba are our Pets of the Week. Please click here to view their complete profile. \n
URL:https://www.gwdhumanesociety.org/event/pets-of-the-week-march-20-2023-sargent-and-simba/
LOCATION:Humane Society of Greenwood\, 2820 Airport Rd\, Greenwood\, SC 29649\, 18500 Greenwade Ln\, United States
END:VEVENT
END:VCALENDAR