BEGIN:VCALENDAR
VERSION:2.0
PRODID:-//The Humane Society of Greenwood - ECPv4.7.3//NONSGML v1.0//EN
CALSCALE:GREGORIAN
METHOD:PUBLISH
X-WR-CALNAME:The Humane Society of Greenwood
X-ORIGINAL-URL:https://www.gwdhumanesociety.org
X-WR-CALDESC:Events for The Humane Society of Greenwood
BEGIN:VEVENT
DTSTART;VALUE=DATE:20200706
DTEND;VALUE=DATE:20200712
DTSTAMP:20260421T105828
CREATED:20200702T141411Z
LAST-MODIFIED:20200702T141411Z
UID:14255-1593993600-1594511999@www.gwdhumanesociety.org
SUMMARY:Pets of the Week (July 6 - July 11)
DESCRIPTION:Pets of the Week\nGirlfriend and Sampson are our Pets of the Week. Please click here to view their complete profiles! \n
URL:https://www.gwdhumanesociety.org/event/pets-of-the-week-july-6-july-11/
LOCATION:Humane Society of Greenwood\, 2820 Airport Rd\, Greenwood\, SC 29649\, 18500 Greenwade Ln\, United States
END:VEVENT
END:VCALENDAR