BEGIN:VCALENDAR
VERSION:2.0
PRODID:-//The Humane Society of Greenwood - ECPv4.7.3//NONSGML v1.0//EN
CALSCALE:GREGORIAN
METHOD:PUBLISH
X-WR-CALNAME:The Humane Society of Greenwood
X-ORIGINAL-URL:https://www.gwdhumanesociety.org
X-WR-CALDESC:Events for The Humane Society of Greenwood
BEGIN:VEVENT
DTSTART;VALUE=DATE:20240122
DTEND;VALUE=DATE:20240128
DTSTAMP:20260422T050541
CREATED:20240124T073941Z
LAST-MODIFIED:20240124T074000Z
UID:29417-1705881600-1706399999@www.gwdhumanesociety.org
SUMMARY:Pets of the Week\, January 22\, 2024: Waylon and Capri
DESCRIPTION:Pets of the Week\nWaylon and Capri are our Pets of the Week. Please click here to view their complete profiles! \n
URL:https://www.gwdhumanesociety.org/event/pets-of-the-week-january-22-2024-waylon-and-capri/
LOCATION:Humane Society of Greenwood\, 2820 Airport Rd\, Greenwood\, SC 29649\, 18500 Greenwade Ln\, United States
END:VEVENT
END:VCALENDAR