BEGIN:VCALENDAR
VERSION:2.0
PRODID:-//The Humane Society of Greenwood - ECPv4.7.3//NONSGML v1.0//EN
CALSCALE:GREGORIAN
METHOD:PUBLISH
X-WR-CALNAME:The Humane Society of Greenwood
X-ORIGINAL-URL:https://www.gwdhumanesociety.org
X-WR-CALDESC:Events for The Humane Society of Greenwood
BEGIN:VEVENT
DTSTART;VALUE=DATE:20210118
DTEND;VALUE=DATE:20210124
DTSTAMP:20260423T010102
CREATED:20210118T152834Z
LAST-MODIFIED:20210118T153848Z
UID:15600-1610928000-1611446399@www.gwdhumanesociety.org
SUMMARY:Pets of the Week (Jan. 18 - Jan. 23) RayRay and Gretel
DESCRIPTION:Pets of the Week\nRayRay and Gretel are our Pets of the Week. Please click here to read their complete profiles! \n
URL:https://www.gwdhumanesociety.org/event/pets-of-the-week-jan-18-jan-23-rayray-and-gretel/
LOCATION:Humane Society of Greenwood\, 2820 Airport Rd\, Greenwood\, SC 29649\, 18500 Greenwade Ln\, United States
END:VEVENT
END:VCALENDAR