BEGIN:VCALENDAR
VERSION:2.0
PRODID:-//The Humane Society of Greenwood - ECPv4.7.3//NONSGML v1.0//EN
CALSCALE:GREGORIAN
METHOD:PUBLISH
X-WR-CALNAME:The Humane Society of Greenwood
X-ORIGINAL-URL:https://www.gwdhumanesociety.org
X-WR-CALDESC:Events for The Humane Society of Greenwood
BEGIN:VEVENT
DTSTART;VALUE=DATE:20210111
DTEND;VALUE=DATE:20210117
DTSTAMP:20260422T232036
CREATED:20210110T225745Z
LAST-MODIFIED:20210110T225908Z
UID:15563-1610323200-1610841599@www.gwdhumanesociety.org
SUMMARY:Pets of the Week (Jan. 11 - Jan. 16) Rocko and White Sox
DESCRIPTION:Pets of the Week\nRocko and White Sox are our Pets of the Week. Please click here to visit their complete profiles! \n
URL:https://www.gwdhumanesociety.org/event/pets-of-the-week-jan-11-jan-16-rocko-and-white-sox/
LOCATION:Humane Society of Greenwood\, 2820 Airport Rd\, Greenwood\, SC 29649\, 18500 Greenwade Ln\, United States
END:VEVENT
END:VCALENDAR