BEGIN:VCALENDAR
VERSION:2.0
PRODID:-//The Humane Society of Greenwood - ECPv4.7.3//NONSGML v1.0//EN
CALSCALE:GREGORIAN
METHOD:PUBLISH
X-WR-CALNAME:The Humane Society of Greenwood
X-ORIGINAL-URL:https://www.gwdhumanesociety.org
X-WR-CALDESC:Events for The Humane Society of Greenwood
BEGIN:VEVENT
DTSTART;VALUE=DATE:20240212
DTEND;VALUE=DATE:20240218
DTSTAMP:20260422T002537
CREATED:20240212T185325Z
LAST-MODIFIED:20240212T185636Z
UID:29450-1707696000-1708214399@www.gwdhumanesociety.org
SUMMARY:Pets of the Week\, February 12th\, 2024 - Louis and Ruby
DESCRIPTION:Pets of the Week\nLouis and Ruby are our Pets of the Week. Please click here to view their complete profiles! \n
URL:https://www.gwdhumanesociety.org/event/pets-of-the-week-february-12th-2024-louis-and-ruby/
LOCATION:Humane Society of Greenwood\, 2820 Airport Rd\, Greenwood\, SC 29649\, 18500 Greenwade Ln\, United States
END:VEVENT
END:VCALENDAR