BEGIN:VCALENDAR
VERSION:2.0
PRODID:-//The Humane Society of Greenwood - ECPv4.7.3//NONSGML v1.0//EN
CALSCALE:GREGORIAN
METHOD:PUBLISH
X-WR-CALNAME:The Humane Society of Greenwood
X-ORIGINAL-URL:https://www.gwdhumanesociety.org
X-WR-CALDESC:Events for The Humane Society of Greenwood
BEGIN:VEVENT
DTSTART;VALUE=DATE:20200831
DTEND;VALUE=DATE:20200906
DTSTAMP:20260421T140240
CREATED:20200827T151739Z
LAST-MODIFIED:20200827T151739Z
UID:14683-1598832000-1599350399@www.gwdhumanesociety.org
SUMMARY:Pets of the Week (Aug. 31 - Sept. 5) General and Liberty!
DESCRIPTION:Pets of the Week\nGeneral and Liberty are our Pets of the Week. Please click here to view their complete profiles! \n
URL:https://www.gwdhumanesociety.org/event/pets-of-the-week-aug-31-sept-5-general-and-liberty/
LOCATION:Humane Society of Greenwood\, 2820 Airport Rd\, Greenwood\, SC 29649\, 18500 Greenwade Ln\, United States
END:VEVENT
END:VCALENDAR