BEGIN:VCALENDAR
VERSION:2.0
PRODID:-//The Humane Society of Greenwood - ECPv4.7.3//NONSGML v1.0//EN
CALSCALE:GREGORIAN
METHOD:PUBLISH
X-WR-CALNAME:The Humane Society of Greenwood
X-ORIGINAL-URL:https://www.gwdhumanesociety.org
X-WR-CALDESC:Events for The Humane Society of Greenwood
BEGIN:VEVENT
DTSTART;VALUE=DATE:20200907
DTEND;VALUE=DATE:20200913
DTSTAMP:20260421T122932
CREATED:20200906T160817Z
LAST-MODIFIED:20200906T161109Z
UID:14738-1599436800-1599955199@www.gwdhumanesociety.org
SUMMARY:Pet of the Week (Sept. 7 - Sept. 12) Beau and Maddie!
DESCRIPTION:Pets of the Week\nBeau and Maddie are our Pets of the Week. Please click here to view their complete profiles! \n
URL:https://www.gwdhumanesociety.org/event/pet-of-the-week-sept-7-sept-12-beau-and-maddie/
LOCATION:Humane Society of Greenwood\, 2820 Airport Rd\, Greenwood\, SC 29649\, 18500 Greenwade Ln\, United States
END:VEVENT
END:VCALENDAR