BEGIN:VCALENDAR
VERSION:2.0
PRODID:-//The Humane Society of Greenwood - ECPv4.7.3//NONSGML v1.0//EN
CALSCALE:GREGORIAN
METHOD:PUBLISH
X-WR-CALNAME:The Humane Society of Greenwood
X-ORIGINAL-URL:https://www.gwdhumanesociety.org
X-WR-CALDESC:Events for The Humane Society of Greenwood
BEGIN:VEVENT
DTSTART;VALUE=DATE:20200713
DTEND;VALUE=DATE:20200719
DTSTAMP:20260421T105849
CREATED:20200710T193057Z
LAST-MODIFIED:20200710T193343Z
UID:14324-1594598400-1595116799@www.gwdhumanesociety.org
SUMMARY:Pet of the Week (July 13 - July 18)
DESCRIPTION:Pets of the Week\nNana and Harry are our Pets of the Week. Please click here to view their complete profiles! \n
URL:https://www.gwdhumanesociety.org/event/pet-of-the-week-july-13-july-18/
LOCATION:Humane Society of Greenwood\, 2820 Airport Rd\, Greenwood\, SC 29649\, 18500 Greenwade Ln\, United States
END:VEVENT
END:VCALENDAR